BEGIN:VCALENDAR
VERSION:2.0
PRODID:-//Learn with CALM - ECPv6.15.17//NONSGML v1.0//EN
CALSCALE:GREGORIAN
METHOD:PUBLISH
X-WR-CALNAME:Learn with CALM
X-ORIGINAL-URL:https://learn.calm.ca
X-WR-CALDESC:Events for Learn with CALM
REFRESH-INTERVAL;VALUE=DURATION:PT1H
X-Robots-Tag:noindex
X-PUBLISHED-TTL:PT1H
BEGIN:VTIMEZONE
TZID:America/Toronto
BEGIN:DAYLIGHT
TZOFFSETFROM:-0500
TZOFFSETTO:-0400
TZNAME:EDT
DTSTART:20250309T070000
END:DAYLIGHT
BEGIN:STANDARD
TZOFFSETFROM:-0400
TZOFFSETTO:-0500
TZNAME:EST
DTSTART:20251102T060000
END:STANDARD
BEGIN:DAYLIGHT
TZOFFSETFROM:-0500
TZOFFSETTO:-0400
TZNAME:EDT
DTSTART:20260308T070000
END:DAYLIGHT
BEGIN:STANDARD
TZOFFSETFROM:-0400
TZOFFSETTO:-0500
TZNAME:EST
DTSTART:20261101T060000
END:STANDARD
BEGIN:DAYLIGHT
TZOFFSETFROM:-0500
TZOFFSETTO:-0400
TZNAME:EDT
DTSTART:20270314T070000
END:DAYLIGHT
BEGIN:STANDARD
TZOFFSETFROM:-0400
TZOFFSETTO:-0500
TZNAME:EST
DTSTART:20271107T060000
END:STANDARD
END:VTIMEZONE
BEGIN:VEVENT
DTSTART;TZID=America/Toronto:20260226T140000
DTEND;TZID=America/Toronto:20260226T150000
DTSTAMP:20260424T164359
CREATED:20260211T234014Z
LAST-MODIFIED:20260211T234014Z
UID:7444-1772114400-1772118000@learn.calm.ca
SUMMARY:104 – Mobile Messaging
DESCRIPTION:Action Network is making mass mobile messaging as easy as sending email. Learn how to get started with Mobile Messaging in this training where we will cover how to create a mobile message\, how to use ladders and how to set up a call campaign. \n\n\n\nRegister Now
URL:https://learn.calm.ca/event/104-mobile-messaging/
ATTACH;FMTTYPE=image/webp:https://learn.calm.ca/wp-content/uploads/2026/02/action-network-logo.webp
END:VEVENT
BEGIN:VEVENT
DTSTART;TZID=America/Toronto:20260226T150000
DTEND;TZID=America/Toronto:20260226T160000
DTSTAMP:20260424T164359
CREATED:20260211T233815Z
LAST-MODIFIED:20260211T233854Z
UID:7440-1772118000-1772121600@learn.calm.ca
SUMMARY:AB 104 – Action Network Integration
DESCRIPTION:Do you want to learn how to effectively mobilize and organize activists and build power with the Action Network and Action Builder integration? Join Action Network for a live training where they will step through the process of syncing sister toolsets! They will also cover some real-life scenarios that apply to various types of progressive movement organizing. \nFrom this training\, you can expect to learn how to: \n\nUse your Action Network API key to add the integration (Action Builder Admins only)\nEnable the integration on a campaign\nGenerate and utilize the Action Builder “Magic Tag”\nSeveral methods of adding tags to activists in Action Network\nMap Action Builder response to Action Network tags\n\nRegister Now
URL:https://learn.calm.ca/event/ab-104-action-network-integration/
ATTACH;FMTTYPE=image/webp:https://learn.calm.ca/wp-content/uploads/2026/02/action-network-logo.webp
END:VEVENT
END:VCALENDAR