BEGIN:VCALENDAR
VERSION:2.0
PRODID:-//Learn with CALM - ECPv6.15.17//NONSGML v1.0//EN
CALSCALE:GREGORIAN
METHOD:PUBLISH
X-WR-CALNAME:Learn with CALM
X-ORIGINAL-URL:https://learn.calm.ca
X-WR-CALDESC:Events for Learn with CALM
REFRESH-INTERVAL;VALUE=DURATION:PT1H
X-Robots-Tag:noindex
X-PUBLISHED-TTL:PT1H
BEGIN:VTIMEZONE
TZID:America/Toronto
BEGIN:DAYLIGHT
TZOFFSETFROM:-0500
TZOFFSETTO:-0400
TZNAME:EDT
DTSTART:20250309T070000
END:DAYLIGHT
BEGIN:STANDARD
TZOFFSETFROM:-0400
TZOFFSETTO:-0500
TZNAME:EST
DTSTART:20251102T060000
END:STANDARD
BEGIN:DAYLIGHT
TZOFFSETFROM:-0500
TZOFFSETTO:-0400
TZNAME:EDT
DTSTART:20260308T070000
END:DAYLIGHT
BEGIN:STANDARD
TZOFFSETFROM:-0400
TZOFFSETTO:-0500
TZNAME:EST
DTSTART:20261101T060000
END:STANDARD
BEGIN:DAYLIGHT
TZOFFSETFROM:-0500
TZOFFSETTO:-0400
TZNAME:EDT
DTSTART:20270314T070000
END:DAYLIGHT
BEGIN:STANDARD
TZOFFSETFROM:-0400
TZOFFSETTO:-0500
TZNAME:EST
DTSTART:20271107T060000
END:STANDARD
END:VTIMEZONE
BEGIN:VEVENT
DTSTART;TZID=America/Toronto:20260129T130000
DTEND;TZID=America/Toronto:20260129T140000
DTSTAMP:20260425T075337
CREATED:20260107T020817Z
LAST-MODIFIED:20260107T020817Z
UID:7342-1769691600-1769695200@learn.calm.ca
SUMMARY:Action Network: Deliverability
DESCRIPTION:Do you find a lot of emails end up in spam? Are your open rates suddenly tanking? Do you want to avoid these issues altogether? You’ll need to learn about deliverability! \nBy the end of this training\, you will know the best delivery practices to protect your email program and help your emails end up in inboxes and avoid spam folders. You’ll also learn how to improve your deliverability and reputation if it’s taken a hit. \nSignup Now
URL:https://learn.calm.ca/event/action-network-deliverability/
CATEGORIES:Email Marketing
ATTACH;FMTTYPE=image/webp:https://learn.calm.ca/wp-content/uploads/2025/05/logo-action-netowrk.webp
END:VEVENT
BEGIN:VEVENT
DTSTART;TZID=America/Toronto:20260127T100000
DTEND;TZID=America/Toronto:20260127T110000
DTSTAMP:20260425T075337
CREATED:20260107T041150Z
LAST-MODIFIED:20260107T041150Z
UID:7351-1769508000-1769511600@learn.calm.ca
SUMMARY:The SEO Update by Yoast – January 2026 Edition
DESCRIPTION:Gain invaluable SEO insights and expert analysis\nDelve into the latest SEO news and developments. Stay ahead of the competition with invaluable insights and expert analysis from industry leaders. \nRegister Now
URL:https://learn.calm.ca/event/the-seo-update-by-yoast-january-2026-edition/
CATEGORIES:Web
ATTACH;FMTTYPE=image/webp:https://learn.calm.ca/wp-content/uploads/2026/01/yoast-webinars.webp
END:VEVENT
BEGIN:VEVENT
DTSTART;TZID=America/Toronto:20260122T140000
DTEND;TZID=America/Toronto:20260122T150000
DTSTAMP:20260425T075337
CREATED:20260107T020716Z
LAST-MODIFIED:20260107T020716Z
UID:7340-1769090400-1769094000@learn.calm.ca
SUMMARY:Action Network: Mobile Messaging
DESCRIPTION:Action Network is making mass mobile messaging as easy as sending email. Learn how to get started with Mobile Messaging in this training where we will cover how to create a mobile message\, how to use ladders and how to set up a call campaign. \nSignup Now
URL:https://learn.calm.ca/event/action-network-mobile-messaging/
ATTACH;FMTTYPE=image/webp:https://learn.calm.ca/wp-content/uploads/2025/05/logo-action-netowrk.webp
END:VEVENT
BEGIN:VEVENT
DTSTART;TZID=America/Toronto:20260120T150000
DTEND;TZID=America/Toronto:20260120T160000
DTSTAMP:20260425T075337
CREATED:20260107T040914Z
LAST-MODIFIED:20260107T040942Z
UID:7347-1768921200-1768924800@learn.calm.ca
SUMMARY:Yoast: How to Start with SEO
DESCRIPTION:Learn the basics and get practical tips\nStarting with SEO can be overwhelming and sometimes you need help to get started. No worries; our SEO experts are here to help. Join this free webinar and get practical tips about all SEO basics. \nRegister Now
URL:https://learn.calm.ca/event/yoast-how-to-start-with-seo/
CATEGORIES:Web
ATTACH;FMTTYPE=image/webp:https://learn.calm.ca/wp-content/uploads/2026/01/yoast-webinars.webp
END:VEVENT
BEGIN:VEVENT
DTSTART;TZID=America/Toronto:20260115T140000
DTEND;TZID=America/Toronto:20260115T150000
DTSTAMP:20260425T075337
CREATED:20260107T011512Z
LAST-MODIFIED:20260107T013556Z
UID:7322-1768485600-1768489200@learn.calm.ca
SUMMARY:Action Network: Email Training
DESCRIPTION:Learn how to write\, test\, and target your emails in this 1 hour training. We’ll cover the basics as well as some advanced topics\, including conditional content\, design\, and queries. \nSignup Now
URL:https://learn.calm.ca/event/email/
CATEGORIES:Email Marketing
ATTACH;FMTTYPE=image/webp:https://learn.calm.ca/wp-content/uploads/2025/05/logo-action-netowrk.webp
END:VEVENT
BEGIN:VEVENT
DTSTART;TZID=America/Toronto:20260108T150000
DTEND;TZID=America/Toronto:20260108T160000
DTSTAMP:20260425T075337
CREATED:20260107T020450Z
LAST-MODIFIED:20260107T020450Z
UID:7336-1767884400-1767888000@learn.calm.ca
SUMMARY:Action Network: Tasks
DESCRIPTION:Ready to get to work organizing? Join us for a live training where we will dig into our Tasks feature. Learn how Action Builder can make completing follow up tasks\, in the office or in the field\, quick and easy! From this training\, you can expect to learn how to: \nSignup Now
URL:https://learn.calm.ca/event/action-network-tasks/
ATTACH;FMTTYPE=image/webp:https://learn.calm.ca/wp-content/uploads/2025/05/logo-action-netowrk.webp
END:VEVENT
END:VCALENDAR