BEGIN:VCALENDAR
VERSION:2.0
PRODID:-//Learn with CALM - ECPv6.15.17//NONSGML v1.0//EN
CALSCALE:GREGORIAN
METHOD:PUBLISH
X-ORIGINAL-URL:https://learn.calm.ca
X-WR-CALDESC:Events for Learn with CALM
REFRESH-INTERVAL;VALUE=DURATION:PT1H
X-Robots-Tag:noindex
X-PUBLISHED-TTL:PT1H
BEGIN:VTIMEZONE
TZID:America/Toronto
BEGIN:DAYLIGHT
TZOFFSETFROM:-0500
TZOFFSETTO:-0400
TZNAME:EDT
DTSTART:20250309T070000
END:DAYLIGHT
BEGIN:STANDARD
TZOFFSETFROM:-0400
TZOFFSETTO:-0500
TZNAME:EST
DTSTART:20251102T060000
END:STANDARD
BEGIN:DAYLIGHT
TZOFFSETFROM:-0500
TZOFFSETTO:-0400
TZNAME:EDT
DTSTART:20260308T070000
END:DAYLIGHT
BEGIN:STANDARD
TZOFFSETFROM:-0400
TZOFFSETTO:-0500
TZNAME:EST
DTSTART:20261101T060000
END:STANDARD
BEGIN:DAYLIGHT
TZOFFSETFROM:-0500
TZOFFSETTO:-0400
TZNAME:EDT
DTSTART:20270314T070000
END:DAYLIGHT
BEGIN:STANDARD
TZOFFSETFROM:-0400
TZOFFSETTO:-0500
TZNAME:EST
DTSTART:20271107T060000
END:STANDARD
END:VTIMEZONE
BEGIN:VEVENT
DTSTART;TZID=America/Toronto:20260318T140000
DTEND;TZID=America/Toronto:20260318T150000
DTSTAMP:20260424T181141
CREATED:20260210T222503Z
LAST-MODIFIED:20260210T222526Z
UID:7410-1773842400-1773846000@learn.calm.ca
SUMMARY:UnionWare: Lists and List Management
DESCRIPTION:Do you need to track a random assortment of records that you wouldn’t be able to find with a Basic Search? Do you need to find all the records that match a specific criteria and be guaranteed that you always have the most up-to-date list of records? UnionWare Lists can help you to solve keeping track of whatever kinds of information you need grouped together. \nThis 1-hour webinar will walk you through creating and using both Static and Dynamic Lists. \nRegister Now
URL:https://learn.calm.ca/event/unionware-lists-and-list-management-2/
ATTACH;FMTTYPE=image/webp:https://learn.calm.ca/wp-content/uploads/2026/02/unionware-event.webp
END:VEVENT
BEGIN:VEVENT
DTSTART;VALUE=DATE:20260416
DTEND;VALUE=DATE:20260417
DTSTAMP:20260424T181141
CREATED:20260107T021932Z
LAST-MODIFIED:20260107T021932Z
UID:7344-1776297600-1776383999@learn.calm.ca
SUMMARY:Canva Create
DESCRIPTION:Imagination’s calling. Join Canva’s annual festival of creativity and community! \nSave your online seat to discover how leading organizations are driving real impact and creating content. \nRegister Online
URL:https://learn.calm.ca/event/canva-create/
CATEGORIES:Design
ATTACH;FMTTYPE=image/webp:https://learn.calm.ca/wp-content/uploads/2025/05/logo-canva.webp
END:VEVENT
BEGIN:VEVENT
DTSTART;VALUE=DATE:20260604
DTEND;VALUE=DATE:20260605
DTSTAMP:20260424T181141
CREATED:20260211T235024Z
LAST-MODIFIED:20260211T235024Z
UID:7455-1780531200-1780617599@learn.calm.ca
SUMMARY:CALM Advanced Communicators Day
DESCRIPTION:The 2026 Annual CALM Conference is heading to Saskatchewan. Join us in Regina for learning\, networking\, and solidarity. Register now! \nWe’re bringing together the brightest minds in union communications to explore the future of labour communications\, share proven strategies\, and give you the tools you need to create a lasting impact. \nKey Dates & Information\nAdvanced Communicators Day: Thursday\, June 4th\, 2026\nConference Dates: Friday\, June 5th to Saturday\, June 6th\, 2026\nAwards Banquet: The night of Saturday\, June 6th\, 2026\nLocation: Regina\, Saskatchewan\nVenue: The Hotel Saskatchewan
URL:https://learn.calm.ca/event/calm-advanced-communicators-day/
ATTACH;FMTTYPE=image/webp:https://learn.calm.ca/wp-content/uploads/2026/02/calm-logo.webp
END:VEVENT
BEGIN:VEVENT
DTSTART;VALUE=DATE:20260605
DTEND;VALUE=DATE:20260607
DTSTAMP:20260424T181141
CREATED:20260211T234929Z
LAST-MODIFIED:20260211T234929Z
UID:7452-1780617600-1780790399@learn.calm.ca
SUMMARY:2026 CALM Conference
DESCRIPTION:The 2026 Annual CALM Conference is heading to Saskatchewan. Join us in Regina for learning\, networking\, and solidarity. Register now! \nWe’re bringing together the brightest minds in union communications to explore the future of labour communications\, share proven strategies\, and give you the tools you need to create a lasting impact. \nKey Dates & Information\nAdvanced Communicators Day: Thursday\, June 4th\, 2026\nConference Dates: Friday\, June 5th to Saturday\, June 6th\, 2026\nAwards Banquet: The night of Saturday\, June 6th\, 2026\nLocation: Regina\, Saskatchewan\nVenue: The Hotel Saskatchewan
URL:https://learn.calm.ca/event/2026-calm-conference/
ATTACH;FMTTYPE=image/webp:https://learn.calm.ca/wp-content/uploads/2026/02/calm-logo.webp
END:VEVENT
END:VCALENDAR