BEGIN:VCALENDAR
VERSION:2.0
PRODID:-//Learn with CALM - ECPv6.15.17//NONSGML v1.0//EN
CALSCALE:GREGORIAN
METHOD:PUBLISH
X-ORIGINAL-URL:https://learn.calm.ca
X-WR-CALDESC:Events for Learn with CALM
REFRESH-INTERVAL;VALUE=DURATION:PT1H
X-Robots-Tag:noindex
X-PUBLISHED-TTL:PT1H
BEGIN:VTIMEZONE
TZID:America/Toronto
BEGIN:DAYLIGHT
TZOFFSETFROM:-0500
TZOFFSETTO:-0400
TZNAME:EDT
DTSTART:20250309T070000
END:DAYLIGHT
BEGIN:STANDARD
TZOFFSETFROM:-0400
TZOFFSETTO:-0500
TZNAME:EST
DTSTART:20251102T060000
END:STANDARD
BEGIN:DAYLIGHT
TZOFFSETFROM:-0500
TZOFFSETTO:-0400
TZNAME:EDT
DTSTART:20260308T070000
END:DAYLIGHT
BEGIN:STANDARD
TZOFFSETFROM:-0400
TZOFFSETTO:-0500
TZNAME:EST
DTSTART:20261101T060000
END:STANDARD
BEGIN:DAYLIGHT
TZOFFSETFROM:-0500
TZOFFSETTO:-0400
TZNAME:EDT
DTSTART:20270314T070000
END:DAYLIGHT
BEGIN:STANDARD
TZOFFSETFROM:-0400
TZOFFSETTO:-0500
TZNAME:EST
DTSTART:20271107T060000
END:STANDARD
END:VTIMEZONE
BEGIN:VEVENT
DTSTART;TZID=America/Toronto:20260225T140000
DTEND;TZID=America/Toronto:20260225T150000
DTSTAMP:20260424T194018
CREATED:20260210T221748Z
LAST-MODIFIED:20260210T222330Z
UID:7403-1772028000-1772031600@learn.calm.ca
SUMMARY:UnionWare: Working with Grid Layouts
DESCRIPTION:Whenever Users run a Search in UnionWare\, the first thing they want to do is change how it looks. Typically\, they want to sort it differently\, or move columns around\, or even get rid of unwanted columns. Grid Layouts provide you with a way of changing how your data looks. AND\, if you do the same changes to how your data looks each time\, we’ll show you how to save those changes to ease the repetitive effort. \nThis 1-hour webinar will show you the most effective ways to quickly change how your data is displayed in grids and drop-downs. \nRegister Now
URL:https://learn.calm.ca/event/working-with-grid-layouts/
ATTACH;FMTTYPE=image/webp:https://learn.calm.ca/wp-content/uploads/2026/02/unionware-event.webp
END:VEVENT
END:VCALENDAR